BEGIN:VCALENDAR
VERSION:2.0
PRODID:-//DevotedOnDemand.com - ECPv6.15.13//NONSGML v1.0//EN
CALSCALE:GREGORIAN
METHOD:PUBLISH
X-WR-CALNAME:DevotedOnDemand.com
X-ORIGINAL-URL:https://devotedondemand.com
X-WR-CALDESC:Events for DevotedOnDemand.com
REFRESH-INTERVAL;VALUE=DURATION:PT1H
X-Robots-Tag:noindex
X-PUBLISHED-TTL:PT1H
BEGIN:VTIMEZONE
TZID:America/New_York
BEGIN:DAYLIGHT
TZOFFSETFROM:-0500
TZOFFSETTO:-0400
TZNAME:EDT
DTSTART:20230312T070000
END:DAYLIGHT
BEGIN:STANDARD
TZOFFSETFROM:-0400
TZOFFSETTO:-0500
TZNAME:EST
DTSTART:20231105T060000
END:STANDARD
BEGIN:DAYLIGHT
TZOFFSETFROM:-0500
TZOFFSETTO:-0400
TZNAME:EDT
DTSTART:20240310T070000
END:DAYLIGHT
BEGIN:STANDARD
TZOFFSETFROM:-0400
TZOFFSETTO:-0500
TZNAME:EST
DTSTART:20241103T060000
END:STANDARD
BEGIN:DAYLIGHT
TZOFFSETFROM:-0500
TZOFFSETTO:-0400
TZNAME:EDT
DTSTART:20250309T070000
END:DAYLIGHT
BEGIN:STANDARD
TZOFFSETFROM:-0400
TZOFFSETTO:-0500
TZNAME:EST
DTSTART:20251102T060000
END:STANDARD
END:VTIMEZONE
BEGIN:VEVENT
DTSTART;TZID=America/New_York:20240116T110000
DTEND;TZID=America/New_York:20240116T120000
DTSTAMP:20260421T112207
CREATED:20240105T190723Z
LAST-MODIFIED:20240105T190724Z
UID:2523-1705402800-1705406400@devotedondemand.com
SUMMARY:Cheers to 20 Years! 2024 Product Training
DESCRIPTION:Join us as we talk about the 2024 product lineup as well as introducing the brand new Berries & Brandy! Register Now!
URL:https://devotedondemand.com/calendar/cheers-to-20-years-2024-product-training/
CATEGORIES:All Salons
ATTACH;FMTTYPE=image/jpeg:https://devotedondemand.com/wp-content/uploads/2-Cheers-to-20-Years-Product-Training.jpg
ORGANIZER;CN="Devoted Creations":MAILTO:support@devotedcreations.com
END:VEVENT
BEGIN:VEVENT
DTSTART;TZID=America/New_York:20240119T140000
DTEND;TZID=America/New_York:20240119T143000
DTSTAMP:20260421T112207
CREATED:20240105T191017Z
LAST-MODIFIED:20240108T045742Z
UID:2526-1705672800-1705674600@devotedondemand.com
SUMMARY:Cheers to 20 Years! The Gateway to Growth
DESCRIPTION:From hiring trends to marketing\, join Devoted Creations as we talk about ways that you can use Social Media to your advantage in 2024! Register Now!
URL:https://devotedondemand.com/calendar/cheers-to-20-years-the-gateway-to-growth/
ATTACH;FMTTYPE=image/jpeg:https://devotedondemand.com/wp-content/uploads/3-Cheers-to-20-Years-The-Gateway-to-Growth.jpg
ORGANIZER;CN="Devoted Creations":MAILTO:support@devotedcreations.com
END:VEVENT
BEGIN:VEVENT
DTSTART;TZID=America/New_York:20240123T140000
DTEND;TZID=America/New_York:20240123T150000
DTSTAMP:20260421T112207
CREATED:20240105T191208Z
LAST-MODIFIED:20240105T191208Z
UID:2529-1706018400-1706022000@devotedondemand.com
SUMMARY:Cheers to 20 Years! Then vs. Now
DESCRIPTION:Join Devoted Creations as we walk through the last 20 years of tanning and products and talk about the evolution of our industry to where we are at today! Register Now!
URL:https://devotedondemand.com/calendar/cheers-to-20-years-then-vs-now/
CATEGORIES:All Salons
ATTACH;FMTTYPE=image/jpeg:https://devotedondemand.com/wp-content/uploads/5-Cheers-to-20-Years-Devoted-Creations-Then-vs.-Now.jpg
ORGANIZER;CN="Devoted Creations":MAILTO:support@devotedcreations.com
END:VEVENT
BEGIN:VEVENT
DTSTART;TZID=America/New_York:20240126T140000
DTEND;TZID=America/New_York:20240126T143000
DTSTAMP:20260421T112207
CREATED:20240105T191359Z
LAST-MODIFIED:20240108T045829Z
UID:2532-1706277600-1706279400@devotedondemand.com
SUMMARY:Cheers to 20 Years! Using Canva 101
DESCRIPTION:Join Devoted Creations as we teach you the basics of using Canva this year for all your marketing and social media needs! Register Now!
URL:https://devotedondemand.com/calendar/cheers-to-20-years-using-canva-101/
ATTACH;FMTTYPE=image/jpeg:https://devotedondemand.com/wp-content/uploads/4-Cheers-to-20-Years-Using-Canva-101.jpg
ORGANIZER;CN="Devoted Creations":MAILTO:support@devotedcreations.com
END:VEVENT
END:VCALENDAR