BEGIN:VCALENDAR
VERSION:2.0
PRODID:-//DevotedOnDemand.com - ECPv6.15.13//NONSGML v1.0//EN
CALSCALE:GREGORIAN
METHOD:PUBLISH
X-WR-CALNAME:DevotedOnDemand.com
X-ORIGINAL-URL:https://devotedondemand.com
X-WR-CALDESC:Events for DevotedOnDemand.com
REFRESH-INTERVAL;VALUE=DURATION:PT1H
X-Robots-Tag:noindex
X-PUBLISHED-TTL:PT1H
BEGIN:VTIMEZONE
TZID:America/New_York
BEGIN:DAYLIGHT
TZOFFSETFROM:-0500
TZOFFSETTO:-0400
TZNAME:EDT
DTSTART:20210314T070000
END:DAYLIGHT
BEGIN:STANDARD
TZOFFSETFROM:-0400
TZOFFSETTO:-0500
TZNAME:EST
DTSTART:20211107T060000
END:STANDARD
BEGIN:DAYLIGHT
TZOFFSETFROM:-0500
TZOFFSETTO:-0400
TZNAME:EDT
DTSTART:20220313T070000
END:DAYLIGHT
BEGIN:STANDARD
TZOFFSETFROM:-0400
TZOFFSETTO:-0500
TZNAME:EST
DTSTART:20221106T060000
END:STANDARD
BEGIN:DAYLIGHT
TZOFFSETFROM:-0500
TZOFFSETTO:-0400
TZNAME:EDT
DTSTART:20230312T070000
END:DAYLIGHT
BEGIN:STANDARD
TZOFFSETFROM:-0400
TZOFFSETTO:-0500
TZNAME:EST
DTSTART:20231105T060000
END:STANDARD
END:VTIMEZONE
BEGIN:VEVENT
DTSTART;TZID=America/New_York:20220208T130000
DTEND;TZID=America/New_York:20220208T140000
DTSTAMP:20260422T135901
CREATED:20220127T164751Z
LAST-MODIFIED:20220223T163508Z
UID:1403-1644325200-1644328800@devotedondemand.com
SUMMARY:If You Like This\, You Will Love That!
DESCRIPTION:Register Now!
URL:https://devotedondemand.com/calendar/if-you-like-this-you-will-love-that/
CATEGORIES:All Salons
ATTACH;FMTTYPE=image/jpeg:https://devotedondemand.com/wp-content/uploads/2-YOU-WILL-LOVE-THIS-April-20-2021-Final.jpg
ORGANIZER;CN="Devoted Creations":MAILTO:support@devotedcreations.com
END:VEVENT
END:VCALENDAR